BEGIN:VCALENDAR
VERSION:2.0
PRODID:-//City of Westbrook, MN - ECPv6.15.20//NONSGML v1.0//EN
CALSCALE:GREGORIAN
METHOD:PUBLISH
X-ORIGINAL-URL:https://cityofwestbrookmn.com
X-WR-CALDESC:Events for City of Westbrook, MN
REFRESH-INTERVAL;VALUE=DURATION:PT1H
X-Robots-Tag:noindex
X-PUBLISHED-TTL:PT1H
BEGIN:VTIMEZONE
TZID:America/Chicago
BEGIN:DAYLIGHT
TZOFFSETFROM:-0600
TZOFFSETTO:-0500
TZNAME:CDT
DTSTART:20220313T080000
END:DAYLIGHT
BEGIN:STANDARD
TZOFFSETFROM:-0500
TZOFFSETTO:-0600
TZNAME:CST
DTSTART:20221106T070000
END:STANDARD
BEGIN:DAYLIGHT
TZOFFSETFROM:-0600
TZOFFSETTO:-0500
TZNAME:CDT
DTSTART:20230312T080000
END:DAYLIGHT
BEGIN:STANDARD
TZOFFSETFROM:-0500
TZOFFSETTO:-0600
TZNAME:CST
DTSTART:20231105T070000
END:STANDARD
BEGIN:DAYLIGHT
TZOFFSETFROM:-0600
TZOFFSETTO:-0500
TZNAME:CDT
DTSTART:20240310T080000
END:DAYLIGHT
BEGIN:STANDARD
TZOFFSETFROM:-0500
TZOFFSETTO:-0600
TZNAME:CST
DTSTART:20241103T070000
END:STANDARD
END:VTIMEZONE
BEGIN:VEVENT
DTSTART;VALUE=DATE:20230105
DTEND;VALUE=DATE:20230106
DTSTAMP:20260423T040658
CREATED:20190211T174507Z
LAST-MODIFIED:20200331T210808Z
UID:10001099-1672876800-1672963199@cityofwestbrookmn.com
SUMMARY:Garbage Pickup - Residential
DESCRIPTION:
URL:https://cityofwestbrookmn.com/event/garbage-pickup-residential/2023-01-05/
END:VEVENT
BEGIN:VEVENT
DTSTART;VALUE=DATE:20230106
DTEND;VALUE=DATE:20230209
DTSTAMP:20260423T040658
CREATED:20230208T213246Z
LAST-MODIFIED:20230208T214403Z
UID:10000897-1672963200-1675900799@cityofwestbrookmn.com
SUMMARY:Recycling
DESCRIPTION:Cottonwood County: 507-831-3781
URL:https://cityofwestbrookmn.com/event/recycling-3-2/2023-01-06/
END:VEVENT
BEGIN:VEVENT
DTSTART;VALUE=DATE:20230112
DTEND;VALUE=DATE:20230113
DTSTAMP:20260423T040658
CREATED:20190211T174507Z
LAST-MODIFIED:20200331T210808Z
UID:10001100-1673481600-1673567999@cityofwestbrookmn.com
SUMMARY:Garbage Pickup - Residential
DESCRIPTION:
URL:https://cityofwestbrookmn.com/event/garbage-pickup-residential/2023-01-12/
END:VEVENT
BEGIN:VEVENT
DTSTART;VALUE=DATE:20230119
DTEND;VALUE=DATE:20230120
DTSTAMP:20260423T040658
CREATED:20190211T174507Z
LAST-MODIFIED:20200331T210808Z
UID:10001101-1674086400-1674172799@cityofwestbrookmn.com
SUMMARY:Garbage Pickup - Residential
DESCRIPTION:
URL:https://cityofwestbrookmn.com/event/garbage-pickup-residential/2023-01-19/
END:VEVENT
BEGIN:VEVENT
DTSTART;VALUE=DATE:20230120
DTEND;VALUE=DATE:20230121
DTSTAMP:20260423T040658
CREATED:20181108T220718Z
LAST-MODIFIED:20181108T220718Z
UID:10000781-1674172800-1674259199@cityofwestbrookmn.com
SUMMARY:Public Utilities Payment Due
DESCRIPTION:
URL:https://cityofwestbrookmn.com/event/public-utilities-payment-due/2023-01-20/
END:VEVENT
BEGIN:VEVENT
DTSTART;VALUE=DATE:20230120
DTEND;VALUE=DATE:20230223
DTSTAMP:20260423T040658
CREATED:20230208T213246Z
LAST-MODIFIED:20230208T214403Z
UID:10001389-1674172800-1677110399@cityofwestbrookmn.com
SUMMARY:Recycling
DESCRIPTION:Cottonwood County: 507-831-3781
URL:https://cityofwestbrookmn.com/event/recycling-3-2/2023-01-20/
END:VEVENT
BEGIN:VEVENT
DTSTART;VALUE=DATE:20230126
DTEND;VALUE=DATE:20230127
DTSTAMP:20260423T040658
CREATED:20190211T174507Z
LAST-MODIFIED:20200331T210808Z
UID:10001102-1674691200-1674777599@cityofwestbrookmn.com
SUMMARY:Garbage Pickup - Residential
DESCRIPTION:
URL:https://cityofwestbrookmn.com/event/garbage-pickup-residential/2023-01-26/
END:VEVENT
END:VCALENDAR