BEGIN:VCALENDAR
VERSION:2.0
PRODID:-//City of Westbrook, MN - ECPv6.15.20//NONSGML v1.0//EN
CALSCALE:GREGORIAN
METHOD:PUBLISH
X-WR-CALNAME:City of Westbrook, MN
X-ORIGINAL-URL:https://cityofwestbrookmn.com
X-WR-CALDESC:Events for City of Westbrook, MN
REFRESH-INTERVAL;VALUE=DURATION:PT1H
X-Robots-Tag:noindex
X-PUBLISHED-TTL:PT1H
BEGIN:VTIMEZONE
TZID:America/Chicago
BEGIN:DAYLIGHT
TZOFFSETFROM:-0600
TZOFFSETTO:-0500
TZNAME:CDT
DTSTART:20220313T080000
END:DAYLIGHT
BEGIN:STANDARD
TZOFFSETFROM:-0500
TZOFFSETTO:-0600
TZNAME:CST
DTSTART:20221106T070000
END:STANDARD
BEGIN:DAYLIGHT
TZOFFSETFROM:-0600
TZOFFSETTO:-0500
TZNAME:CDT
DTSTART:20230312T080000
END:DAYLIGHT
BEGIN:STANDARD
TZOFFSETFROM:-0500
TZOFFSETTO:-0600
TZNAME:CST
DTSTART:20231105T070000
END:STANDARD
BEGIN:DAYLIGHT
TZOFFSETFROM:-0600
TZOFFSETTO:-0500
TZNAME:CDT
DTSTART:20240310T080000
END:DAYLIGHT
BEGIN:STANDARD
TZOFFSETFROM:-0500
TZOFFSETTO:-0600
TZNAME:CST
DTSTART:20241103T070000
END:STANDARD
END:VTIMEZONE
BEGIN:VEVENT
DTSTART;VALUE=DATE:20230824
DTEND;VALUE=DATE:20230825
DTSTAMP:20260421T203958
CREATED:20190211T174507Z
LAST-MODIFIED:20200331T210808Z
UID:10001132-1692835200-1692921599@cityofwestbrookmn.com
SUMMARY:Garbage Pickup - Residential
DESCRIPTION:
URL:https://cityofwestbrookmn.com/event/garbage-pickup-residential/2023-08-24/
END:VEVENT
BEGIN:VEVENT
DTSTART;TZID=America/Chicago:20230828T120000
DTEND;TZID=America/Chicago:20230828T130000
DTSTAMP:20260421T203958
CREATED:20230209T143741Z
LAST-MODIFIED:20230209T143741Z
UID:10001722-1693224000-1693227600@cityofwestbrookmn.com
SUMMARY:Senior Center Potluck
DESCRIPTION:
URL:https://cityofwestbrookmn.com/event/senior-center-potluck-6/
CATEGORIES:Senior Center Events
END:VEVENT
BEGIN:VEVENT
DTSTART;VALUE=DATE:20230831
DTEND;VALUE=DATE:20230901
DTSTAMP:20260421T203958
CREATED:20190211T174507Z
LAST-MODIFIED:20200331T210808Z
UID:10001133-1693440000-1693526399@cityofwestbrookmn.com
SUMMARY:Garbage Pickup - Residential
DESCRIPTION:
URL:https://cityofwestbrookmn.com/event/garbage-pickup-residential/2023-08-31/
END:VEVENT
BEGIN:VEVENT
DTSTART;VALUE=DATE:20230901
DTEND;VALUE=DATE:20231005
DTSTAMP:20260421T203958
CREATED:20230208T213246Z
LAST-MODIFIED:20230208T214403Z
UID:10001405-1693526400-1696463999@cityofwestbrookmn.com
SUMMARY:Recycling
DESCRIPTION:Cottonwood County: 507-831-3781
URL:https://cityofwestbrookmn.com/event/recycling-3-2/2023-09-01/
END:VEVENT
BEGIN:VEVENT
DTSTART;TZID=America/Chicago:20230906T190000
DTEND;TZID=America/Chicago:20230906T200000
DTSTAMP:20260421T203958
CREATED:20230209T144204Z
LAST-MODIFIED:20230209T144204Z
UID:10001723-1694026800-1694030400@cityofwestbrookmn.com
SUMMARY:Lions Mtg
DESCRIPTION:
URL:https://cityofwestbrookmn.com/event/lions-mtg-7/
CATEGORIES:Senior Center Events
END:VEVENT
BEGIN:VEVENT
DTSTART;VALUE=DATE:20230907
DTEND;VALUE=DATE:20230908
DTSTAMP:20260421T203958
CREATED:20190211T174507Z
LAST-MODIFIED:20200331T210808Z
UID:10001134-1694044800-1694131199@cityofwestbrookmn.com
SUMMARY:Garbage Pickup - Residential
DESCRIPTION:
URL:https://cityofwestbrookmn.com/event/garbage-pickup-residential/2023-09-07/
END:VEVENT
BEGIN:VEVENT
DTSTART;VALUE=DATE:20230914
DTEND;VALUE=DATE:20230915
DTSTAMP:20260421T203958
CREATED:20190211T174507Z
LAST-MODIFIED:20200331T210808Z
UID:10001135-1694649600-1694735999@cityofwestbrookmn.com
SUMMARY:Garbage Pickup - Residential
DESCRIPTION:
URL:https://cityofwestbrookmn.com/event/garbage-pickup-residential/2023-09-14/
END:VEVENT
BEGIN:VEVENT
DTSTART;VALUE=DATE:20230915
DTEND;VALUE=DATE:20230917
DTSTAMP:20260421T203958
CREATED:20230209T144329Z
LAST-MODIFIED:20230209T144329Z
UID:10001724-1694736000-1694908799@cityofwestbrookmn.com
SUMMARY:Wallman/Strouth Wedding
DESCRIPTION:
URL:https://cityofwestbrookmn.com/event/wallman-strouth-wedding/
CATEGORIES:Senior Center Events
END:VEVENT
BEGIN:VEVENT
DTSTART;VALUE=DATE:20230915
DTEND;VALUE=DATE:20230918
DTSTAMP:20260421T203958
CREATED:20230209T145001Z
LAST-MODIFIED:20230209T145001Z
UID:10001735-1694736000-1694995199@cityofwestbrookmn.com
SUMMARY:Wallman and Strouth Wedding
DESCRIPTION:
URL:https://cityofwestbrookmn.com/event/wallman-and-strouth-wedding/
CATEGORIES:Community Center Events
END:VEVENT
BEGIN:VEVENT
DTSTART;VALUE=DATE:20230915
DTEND;VALUE=DATE:20231019
DTSTAMP:20260421T203958
CREATED:20230208T213246Z
LAST-MODIFIED:20230208T214403Z
UID:10001406-1694736000-1697673599@cityofwestbrookmn.com
SUMMARY:Recycling
DESCRIPTION:Cottonwood County: 507-831-3781
URL:https://cityofwestbrookmn.com/event/recycling-3-2/2023-09-15/
END:VEVENT
BEGIN:VEVENT
DTSTART;TZID=America/Chicago:20230917T163000
DTEND;TZID=America/Chicago:20230917T183000
DTSTAMP:20260421T203958
CREATED:20230209T144406Z
LAST-MODIFIED:20230209T144406Z
UID:10001725-1694968200-1694975400@cityofwestbrookmn.com
SUMMARY:4-H Meeting
DESCRIPTION:
URL:https://cityofwestbrookmn.com/event/4-h-meeting-2/
CATEGORIES:Senior Center Events
END:VEVENT
BEGIN:VEVENT
DTSTART;VALUE=DATE:20230921
DTEND;VALUE=DATE:20230922
DTSTAMP:20260421T203958
CREATED:20190211T174507Z
LAST-MODIFIED:20200331T210808Z
UID:10001136-1695254400-1695340799@cityofwestbrookmn.com
SUMMARY:Garbage Pickup - Residential
DESCRIPTION:
URL:https://cityofwestbrookmn.com/event/garbage-pickup-residential/2023-09-21/
END:VEVENT
BEGIN:VEVENT
DTSTART;TZID=America/Chicago:20230925T120000
DTEND;TZID=America/Chicago:20230925T130000
DTSTAMP:20260421T203958
CREATED:20230209T144445Z
LAST-MODIFIED:20230209T144445Z
UID:10001726-1695643200-1695646800@cityofwestbrookmn.com
SUMMARY:Senior Center Potluck
DESCRIPTION:
URL:https://cityofwestbrookmn.com/event/senior-center-potluck-7/
CATEGORIES:Senior Center Events
END:VEVENT
BEGIN:VEVENT
DTSTART;VALUE=DATE:20230928
DTEND;VALUE=DATE:20230929
DTSTAMP:20260421T203959
CREATED:20190211T174507Z
LAST-MODIFIED:20200331T210808Z
UID:10001137-1695859200-1695945599@cityofwestbrookmn.com
SUMMARY:Garbage Pickup - Residential
DESCRIPTION:
URL:https://cityofwestbrookmn.com/event/garbage-pickup-residential/2023-09-28/
END:VEVENT
BEGIN:VEVENT
DTSTART;VALUE=DATE:20230929
DTEND;VALUE=DATE:20231102
DTSTAMP:20260421T203959
CREATED:20230208T213246Z
LAST-MODIFIED:20230208T214403Z
UID:10001407-1695945600-1698883199@cityofwestbrookmn.com
SUMMARY:Recycling
DESCRIPTION:Cottonwood County: 507-831-3781
URL:https://cityofwestbrookmn.com/event/recycling-3-2/2023-09-29/
END:VEVENT
BEGIN:VEVENT
DTSTART;TZID=America/Chicago:20231004T190000
DTEND;TZID=America/Chicago:20231004T200000
DTSTAMP:20260421T203959
CREATED:20230209T144517Z
LAST-MODIFIED:20230209T144517Z
UID:10001727-1696446000-1696449600@cityofwestbrookmn.com
SUMMARY:Lions Mtg
DESCRIPTION:
URL:https://cityofwestbrookmn.com/event/lions-mtg-8/
CATEGORIES:Senior Center Events
END:VEVENT
BEGIN:VEVENT
DTSTART;VALUE=DATE:20231005
DTEND;VALUE=DATE:20231006
DTSTAMP:20260421T203959
CREATED:20190211T174507Z
LAST-MODIFIED:20200331T210808Z
UID:10001138-1696464000-1696550399@cityofwestbrookmn.com
SUMMARY:Garbage Pickup - Residential
DESCRIPTION:
URL:https://cityofwestbrookmn.com/event/garbage-pickup-residential/2023-10-05/
END:VEVENT
BEGIN:VEVENT
DTSTART;VALUE=DATE:20231012
DTEND;VALUE=DATE:20231013
DTSTAMP:20260421T203959
CREATED:20190211T174507Z
LAST-MODIFIED:20200331T210808Z
UID:10001139-1697068800-1697155199@cityofwestbrookmn.com
SUMMARY:Garbage Pickup - Residential
DESCRIPTION:
URL:https://cityofwestbrookmn.com/event/garbage-pickup-residential/2023-10-12/
END:VEVENT
BEGIN:VEVENT
DTSTART;VALUE=DATE:20231013
DTEND;VALUE=DATE:20231116
DTSTAMP:20260421T203959
CREATED:20230208T213246Z
LAST-MODIFIED:20230208T214403Z
UID:10001408-1697155200-1700089199@cityofwestbrookmn.com
SUMMARY:Recycling
DESCRIPTION:Cottonwood County: 507-831-3781
URL:https://cityofwestbrookmn.com/event/recycling-3-2/2023-10-13/
END:VEVENT
BEGIN:VEVENT
DTSTART;VALUE=DATE:20231019
DTEND;VALUE=DATE:20231020
DTSTAMP:20260421T203959
CREATED:20190211T174507Z
LAST-MODIFIED:20200331T210808Z
UID:10001140-1697673600-1697759999@cityofwestbrookmn.com
SUMMARY:Garbage Pickup - Residential
DESCRIPTION:
URL:https://cityofwestbrookmn.com/event/garbage-pickup-residential/2023-10-19/
END:VEVENT
BEGIN:VEVENT
DTSTART;VALUE=DATE:20231026
DTEND;VALUE=DATE:20231027
DTSTAMP:20260421T203959
CREATED:20190211T174507Z
LAST-MODIFIED:20200331T210808Z
UID:10001141-1698278400-1698364799@cityofwestbrookmn.com
SUMMARY:Garbage Pickup - Residential
DESCRIPTION:
URL:https://cityofwestbrookmn.com/event/garbage-pickup-residential/2023-10-26/
END:VEVENT
BEGIN:VEVENT
DTSTART;VALUE=DATE:20231027
DTEND;VALUE=DATE:20231130
DTSTAMP:20260421T203959
CREATED:20230208T213246Z
LAST-MODIFIED:20230208T214403Z
UID:10001409-1698364800-1701298799@cityofwestbrookmn.com
SUMMARY:Recycling
DESCRIPTION:Cottonwood County: 507-831-3781
URL:https://cityofwestbrookmn.com/event/recycling-3-2/2023-10-27/
END:VEVENT
BEGIN:VEVENT
DTSTART;TZID=America/Chicago:20231030T120000
DTEND;TZID=America/Chicago:20231030T130000
DTSTAMP:20260421T203959
CREATED:20230209T144549Z
LAST-MODIFIED:20230209T144549Z
UID:10001728-1698667200-1698670800@cityofwestbrookmn.com
SUMMARY:Senior Center Potluck
DESCRIPTION:
URL:https://cityofwestbrookmn.com/event/senior-center-potluck-8/
CATEGORIES:Senior Center Events
END:VEVENT
BEGIN:VEVENT
DTSTART;VALUE=DATE:20231102
DTEND;VALUE=DATE:20231103
DTSTAMP:20260421T203959
CREATED:20190211T174507Z
LAST-MODIFIED:20200331T210808Z
UID:10001142-1698883200-1698969599@cityofwestbrookmn.com
SUMMARY:Garbage Pickup - Residential
DESCRIPTION:
URL:https://cityofwestbrookmn.com/event/garbage-pickup-residential/2023-11-02/
END:VEVENT
BEGIN:VEVENT
DTSTART;VALUE=DATE:20231104
DTEND;VALUE=DATE:20231105
DTSTAMP:20260421T203959
CREATED:20230209T144629Z
LAST-MODIFIED:20230209T144629Z
UID:10001729-1699056000-1699142399@cityofwestbrookmn.com
SUMMARY:WAV
DESCRIPTION:
URL:https://cityofwestbrookmn.com/event/wav/
CATEGORIES:Senior Center Events
END:VEVENT
BEGIN:VEVENT
DTSTART;VALUE=DATE:20231109
DTEND;VALUE=DATE:20231110
DTSTAMP:20260421T203959
CREATED:20190211T174507Z
LAST-MODIFIED:20200331T210808Z
UID:10001143-1699488000-1699574399@cityofwestbrookmn.com
SUMMARY:Garbage Pickup - Residential
DESCRIPTION:
URL:https://cityofwestbrookmn.com/event/garbage-pickup-residential/2023-11-09/
END:VEVENT
BEGIN:VEVENT
DTSTART;VALUE=DATE:20231110
DTEND;VALUE=DATE:20231214
DTSTAMP:20260421T203959
CREATED:20230208T213246Z
LAST-MODIFIED:20230208T214403Z
UID:10001410-1699574400-1702511999@cityofwestbrookmn.com
SUMMARY:Recycling
DESCRIPTION:Cottonwood County: 507-831-3781
URL:https://cityofwestbrookmn.com/event/recycling-3-2/2023-11-10/
END:VEVENT
BEGIN:VEVENT
DTSTART;VALUE=DATE:20231116
DTEND;VALUE=DATE:20231117
DTSTAMP:20260421T203959
CREATED:20190211T174507Z
LAST-MODIFIED:20200331T210808Z
UID:10001144-1700092800-1700179199@cityofwestbrookmn.com
SUMMARY:Garbage Pickup - Residential
DESCRIPTION:
URL:https://cityofwestbrookmn.com/event/garbage-pickup-residential/2023-11-16/
END:VEVENT
BEGIN:VEVENT
DTSTART;VALUE=DATE:20231123
DTEND;VALUE=DATE:20231124
DTSTAMP:20260421T203959
CREATED:20190211T174507Z
LAST-MODIFIED:20200331T210808Z
UID:10001145-1700697600-1700783999@cityofwestbrookmn.com
SUMMARY:Garbage Pickup - Residential
DESCRIPTION:
URL:https://cityofwestbrookmn.com/event/garbage-pickup-residential/2023-11-23/
END:VEVENT
BEGIN:VEVENT
DTSTART;VALUE=DATE:20231124
DTEND;VALUE=DATE:20231228
DTSTAMP:20260421T203959
CREATED:20230208T213246Z
LAST-MODIFIED:20230208T214403Z
UID:10001411-1700784000-1703721599@cityofwestbrookmn.com
SUMMARY:Recycling
DESCRIPTION:Cottonwood County: 507-831-3781
URL:https://cityofwestbrookmn.com/event/recycling-3-2/2023-11-24/
END:VEVENT
END:VCALENDAR